BEGIN:VCALENDAR
VERSION:2.0
PRODID:-//hacksw/handcal//NONSGML v1.0//EN
CALSCALE:GREGORIAN
BEGIN:VEVENT
LOCATION:M&S\, 
DESCRIPTION:Team Brightly will be in Marks & Spencer\, King Street raising awareness of the work the charity does and helping shoppers to pack their bags. Please pop in and say hello.
DTSTART:20190316T100000Z
SUMMARY:Brightly Bag Pack
DTEND:20190316T140000Z
URL;VALUE=URI:https://www.jerseycharities.org/diary/1159/brightly-bag-pack
DTSTAMP:20260422T222558Z
UID:69e93ce6ec592
END:VEVENT
END:VCALENDAR