BEGIN:VCALENDAR
VERSION:2.0
PRODID:-//hacksw/handcal//NONSGML v1.0//EN
CALSCALE:GREGORIAN
BEGIN:VEVENT
LOCATION:Shabby Chic to Antique\, 
DESCRIPTION:Open from 10am - 5pm each day\, this popular annual event is being held at RJA &amp\; HS on Trinity Hill with FREE ENTRY and FREE PARKING. There are stall holders from Jersey\, Guernsey and the UK selling their wears\, with a little something for everyone\, and an ideal weekend for the chance to buy those last Christmas gifts. From antiques to flowers\, china to paintings\, clothing to glass wear and bric a brac and so much more. The kitchen is open daily too with freshly made food prepared on the day and drinks also. All proceeds from this event go to Mind Jersey and stay in the Island. We look forward to seeing you there ... It&#39\;s FREE so why not come up Saturday and Sunday.

DTSTART:20191116T100000Z
SUMMARY:Shabby Chic to Antique Weekend
DTEND:20191117T170000Z
URL;VALUE=URI:https://www.jerseycharities.org/diary/1450/shabby-chic-to-antique-weekend-1
DTSTAMP:20260422T001552Z
UID:69e80528909b7
END:VEVENT
END:VCALENDAR