BEGIN:VCALENDAR
VERSION:2.0
PRODID:-//hacksw/handcal//NONSGML v1.0//EN
CALSCALE:GREGORIAN
BEGIN:VEVENT
LOCATION:Reg's Garden\, 
DESCRIPTION:The JSPCA Animals&#39\; Shelter will be taking over the Tea Room and serving tea\, coffee and cakes at Reg&#39\;s Garden all week (11am - 4pm). Come along for a catch up with friends\, a family trip out or a walk in the beautiful garden - all welcome! We can&#39\;t wait to see you!

DTSTART:20200712T110000Z
SUMMARY:Coffee and Cake at Reg's Garden All Welcome!
DTEND:20200718T160000Z
URL;VALUE=URI:https://www.jerseycharities.org/diary/1748/coffee-and-cake-at-regs-garden-all-welcome
DTSTAMP:20260422T225513Z
UID:69e943c1a4bec
END:VEVENT
END:VCALENDAR