BEGIN:VCALENDAR
VERSION:2.0
PRODID:-//hacksw/handcal//NONSGML v1.0//EN
CALSCALE:GREGORIAN
BEGIN:VEVENT
LOCATION:St Brelades Bay Hotel\, 
DESCRIPTION:Our fantastic annual charity ball raising funds for our work out in Burkina Faso supporting a local school. For tickets please contact our office on 01534 768957

DTSTART:20211016T183000Z
SUMMARY:Burkina Faso Charity Ball 
DTEND:20211016T233000Z
URL;VALUE=URI:https://www.jerseycharities.org/diary/1897/burkina-faso-charity-ball-1
DTSTAMP:20260420T223834Z
UID:69e69cdaf3255
END:VEVENT
END:VCALENDAR