BEGIN:VCALENDAR
VERSION:2.0
PRODID:-//hacksw/handcal//NONSGML v1.0//EN
CALSCALE:GREGORIAN
BEGIN:VEVENT
LOCATION:FB Fields\, 
DESCRIPTION:Relay For Life celebrates the power of community fundraising in the fight to beat cancer. Teams of family and friends fundraise for life-saving cancer research then unite as a community to celebrate and remember everyone who has been affected by cancer. This is a 24 hour overnight camping event but everyone is welcome to come and walk at anytime.

DTSTART:20220716T120000Z
SUMMARY:RELAY FOR LIFE
DTEND:20220717T120000Z
URL;VALUE=URI:https://www.jerseycharities.org/diary/2014/relay-for-life-2
DTSTAMP:20260426T001018Z
UID:69ed49da98bfc
END:VEVENT
END:VCALENDAR