BEGIN:VCALENDAR
VERSION:2.0
PRODID:-//hacksw/handcal//NONSGML v1.0//EN
CALSCALE:GREGORIAN
BEGIN:VEVENT
LOCATION:\, 
DESCRIPTION:Dementia Jersey will be holding a range of activities and events to help promote dementia awareness in Jersey.

DTSTART:20230522T120000Z
SUMMARY:Dementia Awareness Week
DTEND:20230528T120000Z
URL;VALUE=URI:https://www.jerseycharities.org/diary/2228/dementia-awareness-week-2
DTSTAMP:20260422T154012Z
UID:69e8ddcc1a14e
END:VEVENT
END:VCALENDAR