BEGIN:VCALENDAR
VERSION:2.0
PRODID:-//hacksw/handcal//NONSGML v1.0//EN
CALSCALE:GREGORIAN
BEGIN:VEVENT
LOCATION:Jersey Areo Club\, 
DESCRIPTION:Please join us for this unique event to race the runway as it&rsquo\;s lit up at night. All funds raised will be donated to Family Nursing &amp\; Home Care (FNHC.) Ticket price includes drink and nibbles following the race. There will also be an opportunity to win one of our fantastic prizes at our raffle. Many thanks for Ports of Jersey for organising this fantastic event in aid of FNHC.

DTSTART:20240425T200000Z
SUMMARY:Race The Runway
DTEND:20240425T230000Z
URL;VALUE=URI:https://www.jerseycharities.org/diary/2550/race-the-runway-1
DTSTAMP:20260425T143414Z
UID:69ecc2d634914
END:VEVENT
END:VCALENDAR