BEGIN:VCALENDAR
VERSION:2.0
PRODID:-//hacksw/handcal//NONSGML v1.0//EN
CALSCALE:GREGORIAN
BEGIN:VEVENT
LOCATION:La Rocque\, 
DESCRIPTION:15 mile sponsored walk from La Roqcue to Corbiere

DTSTART:20260517T083000Z
SUMMARY:South Coast Charity Challenge
DTEND:20260517T120000Z
URL;VALUE=URI:https://www.jerseycharities.org/diary/2908/south-coast-charity-challenge-2
DTSTAMP:20260424T151441Z
UID:69eb7ad1aaf6a
END:VEVENT
END:VCALENDAR