BEGIN:VCALENDAR
VERSION:2.0
PRODID:-//hacksw/handcal//NONSGML v1.0//EN
CALSCALE:GREGORIAN
BEGIN:VEVENT
LOCATION:\, 
DESCRIPTION:Join Macmillan Cancer Support Jersey and our incredible event partners as the island gets together and helps us raise vital funds for the continuation of our services.

DTSTART:20260925T080000Z
SUMMARY:Jersey's Greatest Coffee Morning
DTEND:20260925T120000Z
URL;VALUE=URI:https://www.jerseycharities.org/diary/2937/jerseys-greatest-coffee-morning-2
DTSTAMP:20260424T151523Z
UID:69eb7afb7b2da
END:VEVENT
END:VCALENDAR