BEGIN:VCALENDAR
VERSION:2.0
PRODID:-//hacksw/handcal//NONSGML v1.0//EN
CALSCALE:GREGORIAN
BEGIN:VEVENT
LOCATION:\, 
DESCRIPTION:Please ensure your grant application is in by this deadline date to be considered at the 9 June 2026 meeting.&nbsp\;

DTSTART:20260519T000000Z
SUMMARY:AJC Grant Application Deadline 
DTEND:20260519T000000Z
URL;VALUE=URI:https://www.jerseycharities.org/diary/2939/ajc-grant-application-deadline-7
DTSTAMP:20260424T151615Z
UID:69eb7b2fdc75b
END:VEVENT
END:VCALENDAR