BEGIN:VCALENDAR
VERSION:2.0
PRODID:-//hacksw/handcal//NONSGML v1.0//EN
CALSCALE:GREGORIAN
BEGIN:VEVENT
LOCATION:\, 
DESCRIPTION:Please ensure your application is in by this deadline date to be considered at the 8 September 2026 meeting.&nbsp\;

DTSTART:20260818T000000Z
SUMMARY:AJC Grant Application Deadline
DTEND:20260818T000000Z
URL;VALUE=URI:https://www.jerseycharities.org/diary/2940/ajc-grant-application-deadline-9
DTSTAMP:20260424T151523Z
UID:69eb7afb95321
END:VEVENT
END:VCALENDAR