BEGIN:VCALENDAR
VERSION:2.0
PRODID:-//hacksw/handcal//NONSGML v1.0//EN
CALSCALE:GREGORIAN
BEGIN:VEVENT
LOCATION:\, 
DESCRIPTION:Please ensure your application is in by this deadline to be considered at the 1 December 2026 meeting.&nbsp\;

DTSTART:20261110T000000Z
SUMMARY:AJC Grant Application Deadline
DTEND:20261110T000000Z
URL;VALUE=URI:https://www.jerseycharities.org/diary/2941/ajc-grant-application-deadline-10
DTSTAMP:20260424T151441Z
UID:69eb7ad1db4e8
END:VEVENT
END:VCALENDAR