BEGIN:VCALENDAR
VERSION:2.0
PRODID:-//hacksw/handcal//NONSGML v1.0//EN
CALSCALE:GREGORIAN
BEGIN:VEVENT
LOCATION:FB Fields\, 
DESCRIPTION:Race the energetic Junior mile or team up for the family relay\, then stick around to cheer on local mascots as they go head to head in the Mascot 400. Don&rsquo\;t miss Chase the heart \, an inclusive kids&rsquo\; race for all children attending the event with prizes up for grabs. Also there are many adult events too including the famous Beer mile event. All raising funds for Jersey Heart Support Group

DTSTART:20260719T103000Z
SUMMARY:Festival of the mile
DTEND:20260719T170000Z
URL;VALUE=URI:https://www.jerseycharities.org/diary/2962/festival-of-the-mile-1
DTSTAMP:20260424T151555Z
UID:69eb7b1bd23e5
END:VEVENT
END:VCALENDAR