BEGIN:VCALENDAR
VERSION:2.0
PRODID:-//hacksw/handcal//NONSGML v1.0//EN
CALSCALE:GREGORIAN
BEGIN:VEVENT
LOCATION:\, 
DESCRIPTION:Enjoy our annual environment festival\, #LoveNature\, set in Jersey&rsquo\;s National Park and at other Sites of Special Interest owned by the Trust. Participants are invited to enjoy a week of all things &lsquo\;green&rsquo\; such as scenic walks\, dawn chorus and sunset activities\, star gazing\, puffin watching\, Rockpool Rambles for both adults and families\, and a host of other activities - there&rsquo\;s something for everyone this year! Kindly supported by the Jersey National Park.

DTSTART:20260525T000000Z
SUMMARY:#LoveNature Festival
DTEND:20260525T000000Z
URL;VALUE=URI:https://www.jerseycharities.org/diary/3022/-lovenature-festival
DTSTAMP:20260424T151615Z
UID:69eb7b2fc3ed9
END:VEVENT
END:VCALENDAR