BEGIN:VCALENDAR
VERSION:2.0
PRODID:-//hacksw/handcal//NONSGML v1.0//EN
CALSCALE:GREGORIAN
BEGIN:VEVENT
LOCATION:The Elms\, St Mary\, 
DESCRIPTION:Come along to help us peel and chop apples on Thursday and Friday before joining us on Saturday to enjoy the community celebrations that surround the making of Black Butter or L&eacute\; Ni&egrave\;r Beurre in J&egrave\;rriais. Enjoy traditional local food and drink and an array of artisan market stalls. There will be live music as well as games for children\, and of course the chance to find out more about the work of the National Trust for Jersey. Location: The Elms\, St Mary Time: 10:00am - 4:00pm Price: Free. Kindly supported by Apex Group Jersey

DTSTART:20261009T120000Z
SUMMARY:Black Butter Festival 2026
DTEND:20261010T160000Z
URL;VALUE=URI:https://www.jerseycharities.org/diary/3023/black-butter-festival-2026
DTSTAMP:20260424T151555Z
UID:69eb7b1bea3b0
END:VEVENT
END:VCALENDAR