BEGIN:VCALENDAR
VERSION:2.0
PRODID:-//hacksw/handcal//NONSGML v1.0//EN
CALSCALE:GREGORIAN
BEGIN:VEVENT
LOCATION:Grantez \, 
DESCRIPTION:Enjoy live music in the beautiful setting of the natural amphitheatre at Grantez overlooking St. Ouen&rsquo\;s Bay. Bring a picnic and enjoy fantastic live music as the sun sets. This is the ultimate way to experience the delights of Jersey at this very special time of year.

DTSTART:20260619T173000Z
SUMMARY:Sunset Concert
DTEND:20260619T210000Z
URL;VALUE=URI:https://www.jerseycharities.org/diary/3024/sunset-concert-1
DTSTAMP:20260424T151533Z
UID:69eb7b05ee09d
END:VEVENT
END:VCALENDAR