BEGIN:VCALENDAR
VERSION:2.0
PRODID:-//hacksw/handcal//NONSGML v1.0//EN
CALSCALE:GREGORIAN
BEGIN:VEVENT
LOCATION:\, 
DESCRIPTION:Celebrate 10 Years of the 30 Bays in 30 Days Fundraiser with the 2026 &lsquo\;30 Bays Summer Challenge&rsquo\;! It&rsquo\;s the classic event you know and love but with a few exciting updates for this milestone year. This July and August\, help raise vital funds for the National Trust for Jersey and Jersey Hospice Care\, enjoy time outside with friends\, family or colleagues\, and help us raise awareness of Jersey&rsquo\;s precious coastline environment. Make a splash\, make a difference!

DTSTART:20260701T000000Z
SUMMARY:30 Bays Summer Challenge
DTEND:20260831T000000Z
URL;VALUE=URI:https://www.jerseycharities.org/diary/3025/30-bays-summer-challenge
DTSTAMP:20260424T151534Z
UID:69eb7b0611b14
END:VEVENT
END:VCALENDAR