BEGIN:VCALENDAR
VERSION:2.0
PRODID:-//hacksw/handcal//NONSGML v1.0//EN
CALSCALE:GREGORIAN
BEGIN:VEVENT
LOCATION:St Clement Parish Hall\, 
DESCRIPTION:
Island Friends Together - Sri Lankan Cuisine &amp\; Sri Lankan Music



In aid of Island Friends Together\, Jersey Charity for Children&rsquo\;s Homes and poor schools in Sri Lanka.



St Clement&rsquo\;s Parish Hall\, 7.00pm for 7.30pm Saturday 16th May 2026



&nbsp\;



Cooking by Dr Hima



Starter: Spicy Bites



Main



Chicken Curry



Prawn Curry



(v) Carrot Curry



(v) Dhal Curry



(v) Potato Curry &ndash\; Very Hot 



Pappadams



Boiled white rice



Dessert



Bring your own drinks



Sri Lankan attire is welcomed.



&nbsp\;



Tickets: &pound\;30. Text: 07829 812 849 (Mel) or email melissamahe@hotmail.com 



Payment can be made direct by BACS or by Cash/Sum up machine on the night 



Plenty of parking available



Follow us on our Facebook page: Island Friends Together



Follow us on our X page (twitter): @IslandTogether



Website: www.islandfriendstogether.org

&nbsp\;


&nbsp\;

DTSTART:20260516T190000Z
SUMMARY:Sri Lankan Cuisine & Sri Lankan Music Evening
DTEND:20260516T220000Z
URL;VALUE=URI:https://www.jerseycharities.org/diary/3026/sri-lankan-cuisine-and-sri-lankan-music-evening
DTSTAMP:20260424T151651Z
UID:69eb7b5333d4d
END:VEVENT
END:VCALENDAR