BEGIN:VCALENDAR
VERSION:2.0
PRODID:-//hacksw/handcal//NONSGML v1.0//EN
CALSCALE:GREGORIAN
BEGIN:VEVENT
LOCATION:RJA&HS\, 
DESCRIPTION:Back again your favourite event ... Shabby Chic to Antique with over 30 stalls held in two rooms over two days\, this event has something for everyone\, antiques\, jewellery\, clothing\, glass wear\, china\, local produce etc. Wonderful food being served throughout the weekend by BSK. Free parking and free entry and a wonderful raffle too\, with all proceeds going to Mind Jersey and staying in the Island.

DTSTART:20261114T100000Z
SUMMARY:Shabby Chic to Antique Weekend - Saturday 14th and Sunday 15th November 2026
DTEND:20261115T170000Z
URL;VALUE=URI:https://www.jerseycharities.org/diary/3049/shabby-chic-to-antique-weekend-saturday-14th-and-sunday-15th-november-2026
DTSTAMP:20260424T151136Z
UID:69eb7a18c18a9
END:VEVENT
END:VCALENDAR