BEGIN:VCALENDAR
VERSION:2.0
PRODID:-//hacksw/handcal//NONSGML v1.0//EN
CALSCALE:GREGORIAN
BEGIN:VEVENT
LOCATION:Marina Gardens\, 
DESCRIPTION:We&rsquo\;re thrilled to announce our weekly &lsquo\;Reading Pop-ups&rsquo\;&mdash\;part of the Big Jersey Read campaign and held in partnership with the JDC. Whether you&rsquo\;re looking for a peaceful escape or a family outing\, find us on the green next to Aquasplash every Wednesday (July 1st &ndash\; Aug 12th) from 12:00 PM to 2:00 PM. What to bring: A chair or blanket\, a hat\, and some SPF. The Books: No book? No problem! We&rsquo\;ll have a selection of free books to take or swap. The Vibe: The first three sessions (during term time) offer a relaxed &quot\;grown-up&quot\; atmosphere. From July 22nd\, we&rsquo\;re switching to family-focused fun!

DTSTART:20260729T120000Z
SUMMARY:The Big Jersey Read 'Reading Popup' at Marina Gardens
DTEND:20260729T140000Z
URL;VALUE=URI:https://www.jerseycharities.org/diary/3055/the-big-jersey-read-reading-popup-at-marina-gardens-4
DTSTAMP:20260424T151110Z
UID:69eb79fe66fe1
END:VEVENT
END:VCALENDAR