BEGIN:VCALENDAR
VERSION:2.0
PRODID:-//hacksw/handcal//NONSGML v1.0//EN
CALSCALE:GREGORIAN
BEGIN:VEVENT
LOCATION:St Saviour's Parish Hall\, 
DESCRIPTION:Learn CPR and how to use an AED (Defibrillator) totally free and all ages welcome. Learn about how to keep your heart healthy\, good nutrition and more about the Jersey Heart Support Group charity.

DTSTART:20260530T093000Z
SUMMARY:Free Heart Health Roadshow with Jersey Heart Support Group
DTEND:20260530T120000Z
URL;VALUE=URI:https://www.jerseycharities.org/diary/3059/free-heart-health-roadshow-with-jersey-heart-support-group
DTSTAMP:20260424T151116Z
UID:69eb7a0442cac
END:VEVENT
END:VCALENDAR