BEGIN:VCALENDAR
VERSION:2.0
PRODID:-//hacksw/handcal//NONSGML v1.0//EN
CALSCALE:GREGORIAN
BEGIN:VEVENT
LOCATION:Jersey Library\, 
DESCRIPTION:Through lived experience\, practical guidance\, and audience participation\, this event will provide meaningful insight and real-world strategies to create a more inclusive environment. Whether you are a business owner\, staff member\, or community member\, this session will leave you better equipped to communicate confidently and inclusively. Learn about:- Understanding Deaf culture and identity\; Common barriers dDeaf people face in public spaces\; Practical communication tips for hospitality and customer service\; The importance of lipreading and clear speech\; Simple British Sign Language (BSL) signs\; and Small changes that make a big difference. The session is FREE to everyone

DTSTART:20260507T100000Z
SUMMARY:Bridging The Silence with the Jersey dDeaf Society Charity
DTEND:20260507T110000Z
URL;VALUE=URI:https://www.jerseycharities.org/diary/3060/bridging-the-silence-with-the-jersey-ddeaf-society-charity
DTSTAMP:20260424T151109Z
UID:69eb79fdeb499
END:VEVENT
END:VCALENDAR