BEGIN:VCALENDAR
VERSION:2.0
PRODID:-//hacksw/handcal//NONSGML v1.0//EN
CALSCALE:GREGORIAN
BEGIN:VEVENT
LOCATION:L' Horizon Hotel\, St. Brelades\, 
DESCRIPTION:Save the date. More information to follow.

DTSTART:20270313T190000Z
SUMMARY:Jersey dDeaf Society - 80th Anniversary Celebration Gala 
DTEND:20270313T123000Z
URL;VALUE=URI:https://www.jerseycharities.org/diary/3062/jersey-ddeaf-society-80th-anniversary-celebration-gala
DTSTAMP:20260424T151116Z
UID:69eb7a0429fff
END:VEVENT
END:VCALENDAR