BEGIN:VCALENDAR
VERSION:2.0
PRODID:-//hacksw/handcal//NONSGML v1.0//EN
CALSCALE:GREGORIAN
BEGIN:VEVENT
LOCATION:Santander Work Cafe\, 
DESCRIPTION:Through lived experience\, practical guidance\, and audience participation\, this event will provide meaningful insight and real-world strategies to create a more inclusive environment. Whether you are a business owner\, staff member\, or community member\, this session will leave you better equipped to communicate confidently and inclusively. Covered during this session:- Understanding Deaf culture and identity\; Common barriers dDeaf people face in public spaces\; Practical communication tips for hospitality and customer service\; The importance of lipreading and clear speech\; Simple British Sign Language (BSL) signs\; and Small changes that make a big difference. The session is FREE and open to everyone

DTSTART:20260507T120000Z
SUMMARY:Bridging The Silence with the Jersey dDeaf Society Charity
DTEND:20260507T130000Z
URL;VALUE=URI:https://www.jerseycharities.org/diary/3063/bridging-the-silence-with-the-jersey-ddeaf-society-charity-1
DTSTAMP:20260424T151116Z
UID:69eb7a04a7a65
END:VEVENT
END:VCALENDAR